BEGIN:VCALENDAR
VERSION:2.0
PRODID:-//Nepali Calendar//EN
BEGIN:VEVENT
UID:194d9e4f70a6f904f604439923bf6bf8@nepalicalendar.com
DTSTAMP:20260422T140934Z
DTSTART;VALUE=DATE:20240925
DTEND;VALUE=DATE:20240926
SUMMARY:बुधाष्टमी
DESCRIPTION:बुधाष्टमी
END:VEVENT
END:VCALENDAR