BEGIN:VCALENDAR
VERSION:2.0
PRODID:-//Nepali Calendar//EN
BEGIN:VEVENT
UID:8853d8ecdf7dc208238b7362d798cde1@nepalicalendar.com
DTSTAMP:20260422T140610Z
DTSTART;VALUE=DATE:20240925
DTEND;VALUE=DATE:20240926
SUMMARY:अष्टमी श्राद्ध
DESCRIPTION:अष्टमी श्राद्ध
END:VEVENT
END:VCALENDAR