BEGIN:VCALENDAR
VERSION:2.0
PRODID:-//Nepali Calendar//EN
BEGIN:VEVENT
UID:2eb318a3297c14f62548c5bd29e4c972@nepalicalendar.com
DTSTAMP:20260422T123550Z
DTSTART;VALUE=DATE:20241024
DTEND;VALUE=DATE:20241025
SUMMARY:विश्व विकास सूचना दिवस
DESCRIPTION:विश्व विकास सूचना दिवस
END:VEVENT
END:VCALENDAR