BEGIN:VCALENDAR
VERSION:2.0
PRODID:-//Nepali Calendar//EN
BEGIN:VEVENT
UID:14db67fde4f8ae401eec7f44d824e087@nepalicalendar.com
DTSTAMP:20260422T123633Z
DTSTART;VALUE=DATE:20241024
DTEND;VALUE=DATE:20241025
SUMMARY:संयुक्त राष्ट्रसंघ दिवस
DESCRIPTION:संयुक्त राष्ट्रसंघ दिवस
END:VEVENT
END:VCALENDAR