BEGIN:VCALENDAR
VERSION:2.0
PRODID:-//Nepali Calendar//EN
BEGIN:VEVENT
UID:ae5a8b352c4bbe1cf2b57124c476d30a@nepalicalendar.com
DTSTAMP:20260422T123632Z
DTSTART;VALUE=DATE:20241024
DTEND;VALUE=DATE:20241025
SUMMARY:गोरखकाली पूजा
DESCRIPTION:गोरखकाली पूजा
END:VEVENT
END:VCALENDAR