BEGIN:VCALENDAR
VERSION:2.0
PRODID:-//Nepali Calendar//EN
BEGIN:VEVENT
UID:f880773933410a8866180e8432c1aa38@nepalicalendar.com
DTSTAMP:20260422T105703Z
DTSTART;VALUE=DATE:20241120
DTEND;VALUE=DATE:20241121
SUMMARY:विश्व बाल दिवस
DESCRIPTION:विश्व बाल दिवस
END:VEVENT
END:VCALENDAR