BEGIN:VCALENDAR
VERSION:2.0
PRODID:-//Nepali Calendar//EN
BEGIN:VEVENT
UID:cc0331c34ea5b973fb4aa56aa01d8fbd@nepalicalendar.com
DTSTAMP:20260422T140830Z
DTSTART;VALUE=DATE:20240924
DTEND;VALUE=DATE:20240925
SUMMARY:सप्तमी श्राद्ध
DESCRIPTION:सप्तमी श्राद्ध
END:VEVENT
END:VCALENDAR