BEGIN:VCALENDAR
VERSION:2.0
PRODID:-//Nepali Calendar//EN
BEGIN:VEVENT
UID:09e4f8d971acb05bdfbe3ccba13b1f7e@nepalicalendar.com
DTSTAMP:20260421T231804Z
DTSTART;VALUE=DATE:20250622
DTEND;VALUE=DATE:20250623
SUMMARY:योगिनी एकादशी व्रत (वैष्णवहरूको)
DESCRIPTION:योगिनी एकादशी व्रत (वैष्णवहरूको)
END:VEVENT
END:VCALENDAR