BEGIN:VCALENDAR
VERSION:2.0
PRODID:-//Nepali Calendar//EN
BEGIN:VEVENT
UID:c83ec237e385a771a8cb6d14878ff681@nepalicalendar.com
DTSTAMP:20260422T141040Z
DTSTART;VALUE=DATE:20240924
DTEND;VALUE=DATE:20240925
SUMMARY:महालक्ष्मी व्रत समाप्ति
DESCRIPTION:महालक्ष्मी व्रत समाप्ति
END:VEVENT
END:VCALENDAR