BEGIN:VCALENDAR
VERSION:2.0
PRODID:-//Nepali Calendar//EN
BEGIN:VEVENT
UID:2d12d78eb968de3835bf4ed16d5c4128@nepalicalendar.com
DTSTAMP:20260422T140739Z
DTSTART;VALUE=DATE:20240923
DTEND;VALUE=DATE:20240924
SUMMARY:अन्तर्राष्ट्रिय सांकेतिक भाषा दिवस
DESCRIPTION:अन्तर्राष्ट्रिय सांकेतिक भाषा दिवस
END:VEVENT
END:VCALENDAR