BEGIN:VCALENDAR
VERSION:2.0
PRODID:-//Nepali Calendar//EN
BEGIN:VEVENT
UID:f7984d4ce51c0cd7370a534f8fbf3845@nepalicalendar.com
DTSTAMP:20260422T140610Z
DTSTART;VALUE=DATE:20240923
DTEND;VALUE=DATE:20240924
SUMMARY:षष्ठी श्राद्ध
DESCRIPTION:षष्ठी श्राद्ध
END:VEVENT
END:VCALENDAR