BEGIN:VCALENDAR
VERSION:2.0
PRODID:-//Nepali Calendar//EN
BEGIN:VEVENT
UID:49b9737fabee291cb9f03d18a02108d4@nepalicalendar.com
DTSTAMP:20260422T105841Z
DTSTART;VALUE=DATE:20241119
DTEND;VALUE=DATE:20241120
SUMMARY:विश्व शौचालय दिवस
DESCRIPTION:विश्व शौचालय दिवस
END:VEVENT
END:VCALENDAR