BEGIN:VCALENDAR
VERSION:2.0
PRODID:-//Nepali Calendar//EN
BEGIN:VEVENT
UID:80eccd85370051708ecd68e081e4b78b@nepalicalendar.com
DTSTAMP:20260422T105656Z
DTSTART;VALUE=DATE:20241119
DTEND;VALUE=DATE:20241120
SUMMARY:मङ्गल चौथी व्रत
DESCRIPTION:मङ्गल चौथी व्रत
END:VEVENT
END:VCALENDAR