BEGIN:VCALENDAR
VERSION:2.0
PRODID:-//Nepali Calendar//EN
BEGIN:VEVENT
UID:ddfb83d1cef310eba3efbcc4680f3ae0@nepalicalendar.com
DTSTAMP:20260422T141046Z
DTSTART;VALUE=DATE:20240922
DTEND;VALUE=DATE:20240923
SUMMARY:पञ्चमी श्राद्ध
DESCRIPTION:पञ्चमी श्राद्ध
END:VEVENT
END:VCALENDAR