BEGIN:VCALENDAR
VERSION:2.0
PRODID:-//Nepali Calendar//EN
BEGIN:VEVENT
UID:94ab7e0a82c76531a49c00133237900b@nepalicalendar.com
DTSTAMP:20260422T110003Z
DTSTART;VALUE=DATE:20241117
DTEND;VALUE=DATE:20241118
SUMMARY:अन्तर्राष्ट्रिय विद्यार्थी दिवस
DESCRIPTION:अन्तर्राष्ट्रिय विद्यार्थी दिवस
END:VEVENT
END:VCALENDAR