BEGIN:VCALENDAR
VERSION:2.0
PRODID:-//Nepali Calendar//EN
BEGIN:VEVENT
UID:37534e0775b991f6bd3572e864183fa2@nepalicalendar.com
DTSTAMP:20260422T140744Z
DTSTART;VALUE=DATE:20240921
DTEND;VALUE=DATE:20240922
SUMMARY:विश्व शान्ति दिवस
DESCRIPTION:विश्व शान्ति दिवस
END:VEVENT
END:VCALENDAR