BEGIN:VCALENDAR
VERSION:2.0
PRODID:-//Nepali Calendar//EN
BEGIN:VEVENT
UID:ca8aa286fb3a874dd7656522a009c2cb@nepalicalendar.com
DTSTAMP:20260422T140913Z
DTSTART;VALUE=DATE:20240921
DTEND;VALUE=DATE:20240922
SUMMARY:विश्व अल्जाइमर्स दिवस
DESCRIPTION:विश्व अल्जाइमर्स दिवस
END:VEVENT
END:VCALENDAR