BEGIN:VCALENDAR
VERSION:2.0
PRODID:-//Nepali Calendar//EN
BEGIN:VEVENT
UID:9dbb633dd78dcb5b59adec90e6ac1a7e@nepalicalendar.com
DTSTAMP:20260422T141103Z
DTSTART;VALUE=DATE:20240921
DTEND;VALUE=DATE:20240922
SUMMARY:चतुर्थी श्राद्ध
DESCRIPTION:चतुर्थी श्राद्ध
END:VEVENT
END:VCALENDAR