BEGIN:VCALENDAR
VERSION:2.0
PRODID:-//Nepali Calendar//EN
BEGIN:VEVENT
UID:32378630091f7f7506644674a5683bee@nepalicalendar.com
DTSTAMP:20260421T231632Z
DTSTART;VALUE=DATE:20250621
DTEND;VALUE=DATE:20250622
SUMMARY:संगीत दिवस
DESCRIPTION:संगीत दिवस
END:VEVENT
END:VCALENDAR