BEGIN:VCALENDAR
VERSION:2.0
PRODID:-//Nepali Calendar//EN
BEGIN:VEVENT
UID:86c9bf41390f4dbbc1625375cb7edf20@nepalicalendar.com
DTSTAMP:20260422T105631Z
DTSTART;VALUE=DATE:20241116
DTEND;VALUE=DATE:20241117
SUMMARY:अन्तर्राष्ट्रिय सहनशीलता दिवस
DESCRIPTION:अन्तर्राष्ट्रिय सहनशीलता दिवस
END:VEVENT
END:VCALENDAR