BEGIN:VCALENDAR
VERSION:2.0
PRODID:-//Nepali Calendar//EN
BEGIN:VEVENT
UID:b04860e8749b8104992998e70d805594@nepalicalendar.com
DTSTAMP:20260422T105508Z
DTSTART;VALUE=DATE:20241116
DTEND;VALUE=DATE:20241117
SUMMARY:वृश्चिक संक्रान्ति
DESCRIPTION:वृश्चिक संक्रान्ति
END:VEVENT
END:VCALENDAR