BEGIN:VCALENDAR
VERSION:2.0
PRODID:-//Nepali Calendar//EN
BEGIN:VEVENT
UID:bd10af012df4eabddeaf771f23c8e483@nepalicalendar.com
DTSTAMP:20260422T141047Z
DTSTART;VALUE=DATE:20240920
DTEND;VALUE=DATE:20240921
SUMMARY:तृतीया श्राद्ध
DESCRIPTION:तृतीया श्राद्ध
END:VEVENT
END:VCALENDAR