BEGIN:VCALENDAR
VERSION:2.0
PRODID:-//Nepali Calendar//EN
BEGIN:VEVENT
UID:96597874c9b7cd0563d87794b259f59e@nepalicalendar.com
DTSTAMP:20260422T140739Z
DTSTART;VALUE=DATE:20240919
DTEND;VALUE=DATE:20240920
SUMMARY:द्वितीया श्राद्ध
DESCRIPTION:द्वितीया श्राद्ध
END:VEVENT
END:VCALENDAR