BEGIN:VCALENDAR
VERSION:2.0
PRODID:-//Nepali Calendar//EN
BEGIN:VEVENT
UID:1277e00a29d1fc355912f4503899447b@nepalicalendar.com
DTSTAMP:20260422T140744Z
DTSTART;VALUE=DATE:20240919
DTEND;VALUE=DATE:20240920
SUMMARY:संविधान दिवस
DESCRIPTION:संविधान दिवस
END:VEVENT
END:VCALENDAR