BEGIN:VCALENDAR
VERSION:2.0
PRODID:-//Nepali Calendar//EN
BEGIN:VEVENT
UID:28408d4cc85f7c7e19b36fe676a46077@nepalicalendar.com
DTSTAMP:20260422T140351Z
DTSTART;VALUE=DATE:20241017
DTEND;VALUE=DATE:20241018
SUMMARY:अन्तर्राष्ट्रिय गरिबी निवारण दिवस
DESCRIPTION:अन्तर्राष्ट्रिय गरिबी निवारण दिवस
END:VEVENT
END:VCALENDAR