BEGIN:VCALENDAR
VERSION:2.0
PRODID:-//Nepali Calendar//EN
BEGIN:VEVENT
UID:b31241e0fd8447d922c365fbf5b6eab9@nepalicalendar.com
DTSTAMP:20260422T123842Z
DTSTART;VALUE=DATE:20241017
DTEND;VALUE=DATE:20241018
SUMMARY:आकाशदीपदान आरम्भ
DESCRIPTION:आकाशदीपदान आरम्भ
END:VEVENT
END:VCALENDAR