BEGIN:VCALENDAR
VERSION:2.0
PRODID:-//Nepali Calendar//EN
BEGIN:VEVENT
UID:2f0b22c3c0c242370facb6b0e4c4e93d@nepalicalendar.com
DTSTAMP:20260422T123443Z
DTSTART;VALUE=DATE:20241017
DTEND;VALUE=DATE:20241018
SUMMARY:कार्तिक स्नान
DESCRIPTION:कार्तिक स्नान
END:VEVENT
END:VCALENDAR