BEGIN:VCALENDAR
VERSION:2.0
PRODID:-//Nepali Calendar//EN
BEGIN:VEVENT
UID:cea20ed95dcf52eeea0aa94db3cdb82c@nepalicalendar.com
DTSTAMP:20260422T123255Z
DTSTART;VALUE=DATE:20241017
DTEND;VALUE=DATE:20241018
SUMMARY:पूर्णिमा व्रत
DESCRIPTION:पूर्णिमा व्रत
END:VEVENT
END:VCALENDAR