BEGIN:VCALENDAR
VERSION:2.0
PRODID:-//Nepali Calendar//EN
BEGIN:VEVENT
UID:be787f346b409795f6aec2613cfab15f@nepalicalendar.com
DTSTAMP:20260422T140954Z
DTSTART;VALUE=DATE:20240918
DTEND;VALUE=DATE:20240919
SUMMARY:चेपाङ चोनाम पर्व
DESCRIPTION:चेपाङ चोनाम पर्व
END:VEVENT
END:VCALENDAR