BEGIN:VCALENDAR
VERSION:2.0
PRODID:-//Nepali Calendar//EN
BEGIN:VEVENT
UID:da9d5c21e192f1df69dcc62063787299@nepalicalendar.com
DTSTAMP:20260421T231534Z
DTSTART;VALUE=DATE:20250621
DTEND;VALUE=DATE:20250622
SUMMARY:विश्व योग दिवस
DESCRIPTION:विश्व योग दिवस
END:VEVENT
END:VCALENDAR