BEGIN:VCALENDAR
VERSION:2.0
PRODID:-//Nepali Calendar//EN
BEGIN:VEVENT
UID:b16e50d6bbcbe1c7d151bd57c66f5d03@nepalicalendar.com
DTSTAMP:20260422T140831Z
DTSTART;VALUE=DATE:20240918
DTEND;VALUE=DATE:20240919
SUMMARY:सोह्रश्राद्ध प्रारम्भ (प्रतिपदा श्राद्ध)
DESCRIPTION:सोह्रश्राद्ध प्रारम्भ (प्रतिपदा श्राद्ध)
END:VEVENT
END:VCALENDAR