BEGIN:VCALENDAR
VERSION:2.0
PRODID:-//Nepali Calendar//EN
BEGIN:VEVENT
UID:70631b762c4721b541ef222bb972a24c@nepalicalendar.com
DTSTAMP:20260422T155425Z
DTSTART;VALUE=DATE:20240917
DTEND;VALUE=DATE:20240918
SUMMARY:राष्ट्रिय विज्ञान दिवस
DESCRIPTION:राष्ट्रिय विज्ञान दिवस
END:VEVENT
END:VCALENDAR