BEGIN:VCALENDAR
VERSION:2.0
PRODID:-//Nepali Calendar//EN
BEGIN:VEVENT
UID:81cdf6f16ad58d3a1c25dcd7d697ad25@nepalicalendar.com
DTSTAMP:20260422T155425Z
DTSTART;VALUE=DATE:20240917
DTEND;VALUE=DATE:20240918
SUMMARY:विश्व बिरामी सुरक्षा दिवस
DESCRIPTION:विश्व बिरामी सुरक्षा दिवस
END:VEVENT
END:VCALENDAR