BEGIN:VCALENDAR
VERSION:2.0
PRODID:-//Nepali Calendar//EN
BEGIN:VEVENT
UID:61ddde4deaa5d1a811e396f80151080e@nepalicalendar.com
DTSTAMP:20260422T154955Z
DTSTART;VALUE=DATE:20240917
DTEND;VALUE=DATE:20240918
SUMMARY:अनन्त चतुर्दशी व्रत
DESCRIPTION:अनन्त चतुर्दशी व्रत
END:VEVENT
END:VCALENDAR