BEGIN:VCALENDAR
VERSION:2.0
PRODID:-//Nepali Calendar//EN
BEGIN:VEVENT
UID:d1972eba28b86a92ff50b19053579b56@nepalicalendar.com
DTSTAMP:20260422T155112Z
DTSTART;VALUE=DATE:20240917
DTEND;VALUE=DATE:20240918
SUMMARY:वास्तु दिवस
DESCRIPTION:वास्तु दिवस
END:VEVENT
END:VCALENDAR