BEGIN:VCALENDAR
VERSION:2.0
PRODID:-//Nepali Calendar//EN
BEGIN:VEVENT
UID:5a3493af37e8526126c61490e402a80a@nepalicalendar.com
DTSTAMP:20260422T155353Z
DTSTART;VALUE=DATE:20240917
DTEND;VALUE=DATE:20240918
SUMMARY:राष्ट्रिय चलचित्र दिवस
DESCRIPTION:राष्ट्रिय चलचित्र दिवस
END:VEVENT
END:VCALENDAR