BEGIN:VCALENDAR
VERSION:2.0
PRODID:-//Nepali Calendar//EN
BEGIN:VEVENT
UID:32075aa10f3e6a8980e9d330ed643103@nepalicalendar.com
DTSTAMP:20260422T140457Z
DTSTART;VALUE=DATE:20240917
DTEND;VALUE=DATE:20240918
SUMMARY:इन्द्रजात्रा (उपत्यका बिदा)
DESCRIPTION:इन्द्रजात्रा (उपत्यका बिदा)
END:VEVENT
END:VCALENDAR