BEGIN:VCALENDAR
VERSION:2.0
PRODID:-//Nepali Calendar//EN
BEGIN:VEVENT
UID:0f4ea5d63023e9d524de4c7ac9344963@nepalicalendar.com
DTSTAMP:20260422T140328Z
DTSTART;VALUE=DATE:20240917
DTEND;VALUE=DATE:20240918
SUMMARY:कन्या संक्रान्ति
DESCRIPTION:कन्या संक्रान्ति
END:VEVENT
END:VCALENDAR