BEGIN:VCALENDAR
VERSION:2.0
PRODID:-//Nepali Calendar//EN
BEGIN:VEVENT
UID:43b2a5870baf527322d26219b824e9e0@nepalicalendar.com
DTSTAMP:20260422T141103Z
DTSTART;VALUE=DATE:20240917
DTEND;VALUE=DATE:20240918
SUMMARY:विश्वकर्मा पूजा
DESCRIPTION:विश्वकर्मा पूजा
END:VEVENT
END:VCALENDAR