BEGIN:VCALENDAR
VERSION:2.0
PRODID:-//Nepali Calendar//EN
BEGIN:VEVENT
UID:4c0b8855b8e1c006f37e325b5ce54f69@nepalicalendar.com
DTSTAMP:20260421T231652Z
DTSTART;VALUE=DATE:20250621
DTEND;VALUE=DATE:20250622
SUMMARY:योगिनी एकादशी व्रत (स्मार्तहरूको)
DESCRIPTION:योगिनी एकादशी व्रत (स्मार्तहरूको)
END:VEVENT
END:VCALENDAR