BEGIN:VCALENDAR
VERSION:2.0
PRODID:-//Nepali Calendar//EN
BEGIN:VEVENT
UID:628e1a95a1970f0762af071343d41033@nepalicalendar.com
DTSTAMP:20260422T155023Z
DTSTART;VALUE=DATE:20240916
DTEND;VALUE=DATE:20240917
SUMMARY:विश्व ओजोन तह बचाउ दिवस
DESCRIPTION:विश्व ओजोन तह बचाउ दिवस
END:VEVENT
END:VCALENDAR