BEGIN:VCALENDAR
VERSION:2.0
PRODID:-//Nepali Calendar//EN
BEGIN:VEVENT
UID:316bcac399364c1b0b8484c652ef54fa@nepalicalendar.com
DTSTAMP:20260422T155417Z
DTSTART;VALUE=DATE:20240915
DTEND;VALUE=DATE:20240916
SUMMARY:वामन द्वादशी व्रत
DESCRIPTION:वामन द्वादशी व्रत
END:VEVENT
END:VCALENDAR