BEGIN:VCALENDAR
VERSION:2.0
PRODID:-//Nepali Calendar//EN
BEGIN:VEVENT
UID:777d19db68164c0d23581761a67385e2@nepalicalendar.com
DTSTAMP:20260422T154801Z
DTSTART;VALUE=DATE:20240915
DTEND;VALUE=DATE:20240916
SUMMARY:प्रदोष व्रत
DESCRIPTION:प्रदोष व्रत
END:VEVENT
END:VCALENDAR