BEGIN:VCALENDAR
VERSION:2.0
PRODID:-//Nepali Calendar//EN
BEGIN:VEVENT
UID:36e1ad89435c39b2fb369c35131b65d5@nepalicalendar.com
DTSTAMP:20260422T155256Z
DTSTART;VALUE=DATE:20240914
DTEND;VALUE=DATE:20240915
SUMMARY:प्राथमिक उपचार दिवस
DESCRIPTION:प्राथमिक उपचार दिवस
END:VEVENT
END:VCALENDAR