BEGIN:VCALENDAR
VERSION:2.0
PRODID:-//Nepali Calendar//EN
BEGIN:VEVENT
UID:8e0fd105d6147ff66f24b20e72868096@nepalicalendar.com
DTSTAMP:20260422T155257Z
DTSTART;VALUE=DATE:20240914
DTEND;VALUE=DATE:20240915
SUMMARY:राष्ट्रिय बाल दिवस
DESCRIPTION:राष्ट्रिय बाल दिवस
END:VEVENT
END:VCALENDAR