BEGIN:VCALENDAR
VERSION:2.0
PRODID:-//Nepali Calendar//EN
BEGIN:VEVENT
UID:7ce646ee70e868f30078b92d7a0263b4@nepalicalendar.com
DTSTAMP:20260422T155226Z
DTSTART;VALUE=DATE:20240914
DTEND;VALUE=DATE:20240915
SUMMARY:हरिपरिवर्तिनी एकादशी व्रत
DESCRIPTION:हरिपरिवर्तिनी एकादशी व्रत
END:VEVENT
END:VCALENDAR