BEGIN:VCALENDAR
VERSION:2.0
PRODID:-//Nepali Calendar//EN
BEGIN:VEVENT
UID:65ce10afec2aa21278e41377fb71306d@nepalicalendar.com
DTSTAMP:20260422T155426Z
DTSTART;VALUE=DATE:20240913
DTEND;VALUE=DATE:20240914
SUMMARY:विश्व सेप्सिस दिवस
DESCRIPTION:विश्व सेप्सिस दिवस
END:VEVENT
END:VCALENDAR