BEGIN:VCALENDAR
VERSION:2.0
PRODID:-//Nepali Calendar//EN
BEGIN:VEVENT
UID:830b15d86319745c11adaa619b4c8702@nepalicalendar.com
DTSTAMP:20260422T155225Z
DTSTART;VALUE=DATE:20240911
DTEND;VALUE=DATE:20240912
SUMMARY:राधा जन्मोत्सव
DESCRIPTION:राधा जन्मोत्सव
END:VEVENT
END:VCALENDAR