BEGIN:VCALENDAR
VERSION:2.0
PRODID:-//Nepali Calendar//EN
BEGIN:VEVENT
UID:cde7379af83a8fcc3feed327c9e94851@nepalicalendar.com
DTSTAMP:20260422T155313Z
DTSTART;VALUE=DATE:20240911
DTEND;VALUE=DATE:20240912
SUMMARY:गोरखकाली पूजा
DESCRIPTION:गोरखकाली पूजा
END:VEVENT
END:VCALENDAR