BEGIN:VCALENDAR
VERSION:2.0
PRODID:-//Nepali Calendar//EN
BEGIN:VEVENT
UID:e75b75abacde8c6b6da2cb578cded739@nepalicalendar.com
DTSTAMP:20260422T155354Z
DTSTART;VALUE=DATE:20240911
DTEND;VALUE=DATE:20240912
SUMMARY:बुधाष्टमी व्रत
DESCRIPTION:बुधाष्टमी व्रत
END:VEVENT
END:VCALENDAR